BEGIN:VCALENDAR
VERSION:2.0
PRODID:-//wp-events-plugin.com//7.2.3.1//EN
BEGIN:VEVENT
UID:678@mist1.de
DTSTART:20260425T090000Z
DTEND:20260425T170000Z
DTSTAMP:20260414T155639Z
URL:https://mist1.de/veranstaltungen/dampflok-fruehlingsfest-2/
SUMMARY:Dampflok-Frühlingsfest
DESCRIPTION:Große Eisenbahn zum Anfassen für die ganze Familie im Bahnbet
 riebswerk Berlin-Schöneweide\nDie Dampflokfreunde Berlin e.V. zeigen mehr
  als 30 Lokomotiven und Wagen\, darunter Dampfloks der Baureihen 03\, 52\,
  74 und 95. Mit dabei sind auch moderne Diesel- und Elektrolokomotiven. Di
 rekt vom Festgelände aus startet ein Dampfzug mit historischen Wagen zu R
 undfahrten durch Berlin. Abfahrt am Sonnabend und Sonntag um 10.50 Uhr\, 1
 2.10 Uhr\, 14.50 Uhr und 16.30 Uhr.\nEisenbahn zum Anfassen\nJeder darf ma
 l auf dem Sitz eines Lokführers Platz nehmen und sich Lokomotivkessel ode
 r die riesigen Motoren der modernen Lokomotiven aus der Nähe anschauen. W
 er einem Lokführer bei der Arbeit zusehen möchte\, fährt ein Stück auf
  dem Führerstand der großen Lokomotiven mit. Der Rundgang durch den Loks
 chuppen eröffnet Einblicke in die Lokwerkstatt von vor über 100 Jahren. 
 Hier wird am Wiederaufbau von Lokomotiven und Wagen gearbeitet\, die teils
  seit Jahrzehnten nicht mehr gefahren sind.\nFür Kinder fährt eine Feldb
 ahn durchs Gelände\, eine Hüpfburg lädt zum Austoben ein.\nIm historisc
 hen Mitropa-Speisewagen wird Hausmannskost serviert\, Leckeres vom Grill u
 nd Getränke gibt es im Biergarten.\nGeöffnet ist am Sonnabend von 10 bis
  18 Uhr\, am Sonntag von 10 bis 17 Uhr. Eintritt: Erwachsene 12 Euro\, Kin
 der (6 bis 14 Jahre) 5 Euro\, Familien (2 Erwachsene und bis zu vier Kinde
 r) 30 Euro.\nZum Bahnbetriebswerk Schöneweide fährt man am besten mit de
 r S-Bahn (S 46\, S 8\, S 9) bis zum S-Bahnhof Johannisthal. Von dort gelan
 gt man über die Fußgängerbrücke direkt zum Eisenbahnfest. Mit der Stra
 ßenbahn erreicht man das Bahnbetriebswerk Schöneweide von der Haltestell
 e Benno-König-Straße mit kurzem Fußweg. Parkplätze stehen nur begrenzt
  zur Verfügung.\nDampzugfahrten ab Berlin und Potsdam: www.berlin-macht-d
 ampf.com
CATEGORIES:Ausstellung,Modellbahnbörse,Museumseisenbahn
LOCATION:Bahnbetriebswerk Schöneweide\, S-Bahnhof Betriebsbahnhof Schönew
 eide\, Berlin\, Deutschland
GEO:52.446695;13.524028000000044
X-APPLE-STRUCTURED-LOCATION;VALUE=URI;X-ADDRESS=S-Bahnhof Betriebsbahnhof S
 chöneweide\, Berlin\, Deutschland;X-APPLE-RADIUS=100;X-TITLE=Bahnbetriebs
 werk Schöneweide:geo:52.446695,13.524028000000044
END:VEVENT
END:VCALENDAR